BEGIN:VCALENDAR
VERSION:2.0
PRODID:-//Center For Technology Licensing - ECPv6.11.2.1//NONSGML v1.0//EN
CALSCALE:GREGORIAN
METHOD:PUBLISH
X-ORIGINAL-URL:https://ctl.cornell.edu
X-WR-CALDESC:Events for Center For Technology Licensing
REFRESH-INTERVAL;VALUE=DURATION:PT1H
X-Robots-Tag:noindex
X-PUBLISHED-TTL:PT1H
BEGIN:VTIMEZONE
TZID:UTC
BEGIN:STANDARD
TZOFFSETFROM:+0000
TZOFFSETTO:+0000
TZNAME:UTC
DTSTART:20220101T000000
END:STANDARD
END:VTIMEZONE
BEGIN:VEVENT
DTSTART;VALUE=DATE:20221205
DTEND;VALUE=DATE:20230701
DTSTAMP:20260420T203957
CREATED:20221205T225407Z
LAST-MODIFIED:20221205T225650Z
UID:10000298-1670198400-1688169599@ctl.cornell.edu
SUMMARY:The Inventor's Patent Academy
DESCRIPTION:Patents protect inventions so that inventors can focus on their work and be compensated for it. But many people don’t know how to navigate the patenting process\, or even where to start. \nThat’s why The Inventor’s Patent Academy was created. This free\, one-of-a-kind\, e-learning course aims to help people understand the patenting process and get them ready to apply for their own patent. It also explores challenges inventors may face along the way—particularly those that typically affect women\, people of color\, veterans\, low-income individuals\, people with disabilities\, and other underrepresented inventors—and provides advice to overcome them. Throughout the program\, participants will hear from actual inventors about the challenges they faced and their successes on their journeys to bring ideas to life. \nThis course is unique because it was made by inventors\, patent experts\, and—most importantly—diversity and inclusion experts\, in collaboration with Invent Together partner Qualcomm: one of America’s most innovative companies\, with a portfolio of more than 140\,000 patents. \nIf more people are encouraged to invent and have the tools and knowledge to patent\, we can begin to make real systemic change and build a more diverse and inclusive innovation ecosystem—complete with new inventors\, new ideas\, and new technologies. \nStart your patenting journey today! Register here. \n 
URL:https://ctl.cornell.edu/event/the-inventors-patent-academy
CATEGORIES:Partner Events
ATTACH;FMTTYPE=image/png:https://ctl.cornell.edu/wp-content/uploads/2022/12/TIPA-Events-page-image-size-700x500px.png
END:VEVENT
BEGIN:VEVENT
DTSTART;VALUE=DATE:20230201
DTEND;VALUE=DATE:20230210
DTSTAMP:20260420T203957
CREATED:20230202T002201Z
LAST-MODIFIED:20230202T003758Z
UID:10000354-1675209600-1675987199@ctl.cornell.edu
SUMMARY:I-Corps Regional Course hosted by Cornell University
DESCRIPTION:In this 4.5-week virtual course (February 27 – March 29)\, researchers working on a deep tech innovation “get out of your comfort zone” and talk with customers (virtually) to identify the best product-market fit. You may apply with a team of 1-3 people. Teams may not split attendance between members. Please only include the members of your team that will be fully participating in the course. All team members are required to attend and participate fully in every course session and complete all coursework. \nThis is important for two reasons:\n1) Course learning is cumulative\n2) Only team members who personally complete the full course can be considered for NSF lineage and a nomination for national I-Corps Teams \n\nApplication Closes: Thursday\, February 9\n\n\n  \nMore information and application here.\n\n\n  \nCourse Dates\nCourse opens for pre-course work: Monday\, February 27 \n\nSession 1: Monday\, March 6 10:00 AM – 12:00 PM\nSession 2a: Wednesday\, March 8 TBD (1:1 meetings)\nSession 2b: Friday\, March 10 10:00 AM – 12:00 PM\nSession 3: Monday\, March 13 10:00 AM – 12:00 PM\nSession 4: Wednesday\, March 15 TBD (1:1 meetings)\nSession 5a: Wednesday\, March 22 10:00 AM – 11:00 AM\nSession 5b: Monday\, March 27 10:00 AM – 12:00 PM\nSession 6: Wednesday\, March 29 10:00 AM – 12:00 PM\n\n\n*There will be scheduled office hours meetings with teams and instructors between sessions 1 & 2b and between sessions 3 & 5a. Meeting times will depend on the availability of the teams and the instructors.
URL:https://ctl.cornell.edu/event/i-corps-regional-course-hosted-by-cornell-university
CATEGORIES:Cornell Community Events
ATTACH;FMTTYPE=image/png:https://ctl.cornell.edu/wp-content/uploads/2023/02/Events-page-image-size-700x500px.png
END:VEVENT
END:VCALENDAR