BEGIN:VCALENDAR
VERSION:2.0
PRODID:-//Center For Technology Licensing - ECPv6.11.2.1//NONSGML v1.0//EN
CALSCALE:GREGORIAN
METHOD:PUBLISH
X-WR-CALNAME:Center For Technology Licensing
X-ORIGINAL-URL:https://ctl.cornell.edu
X-WR-CALDESC:Events for Center For Technology Licensing
REFRESH-INTERVAL;VALUE=DURATION:PT1H
X-Robots-Tag:noindex
X-PUBLISHED-TTL:PT1H
BEGIN:VTIMEZONE
TZID:UTC
BEGIN:STANDARD
TZOFFSETFROM:+0000
TZOFFSETTO:+0000
TZNAME:UTC
DTSTART:20220101T000000
END:STANDARD
END:VTIMEZONE
BEGIN:VTIMEZONE
TZID:America/New_York
BEGIN:DAYLIGHT
TZOFFSETFROM:-0500
TZOFFSETTO:-0400
TZNAME:EDT
DTSTART:20230312T070000
END:DAYLIGHT
BEGIN:STANDARD
TZOFFSETFROM:-0400
TZOFFSETTO:-0500
TZNAME:EST
DTSTART:20231105T060000
END:STANDARD
END:VTIMEZONE
BEGIN:VEVENT
DTSTART;VALUE=DATE:20221205
DTEND;VALUE=DATE:20230701
DTSTAMP:20260425T160450
CREATED:20221205T225407Z
LAST-MODIFIED:20221205T225650Z
UID:10000298-1670198400-1688169599@ctl.cornell.edu
SUMMARY:The Inventor's Patent Academy
DESCRIPTION:Patents protect inventions so that inventors can focus on their work and be compensated for it. But many people don’t know how to navigate the patenting process\, or even where to start. \nThat’s why The Inventor’s Patent Academy was created. This free\, one-of-a-kind\, e-learning course aims to help people understand the patenting process and get them ready to apply for their own patent. It also explores challenges inventors may face along the way—particularly those that typically affect women\, people of color\, veterans\, low-income individuals\, people with disabilities\, and other underrepresented inventors—and provides advice to overcome them. Throughout the program\, participants will hear from actual inventors about the challenges they faced and their successes on their journeys to bring ideas to life. \nThis course is unique because it was made by inventors\, patent experts\, and—most importantly—diversity and inclusion experts\, in collaboration with Invent Together partner Qualcomm: one of America’s most innovative companies\, with a portfolio of more than 140\,000 patents. \nIf more people are encouraged to invent and have the tools and knowledge to patent\, we can begin to make real systemic change and build a more diverse and inclusive innovation ecosystem—complete with new inventors\, new ideas\, and new technologies. \nStart your patenting journey today! Register here. \n 
URL:https://ctl.cornell.edu/event/the-inventors-patent-academy
CATEGORIES:Partner Events
ATTACH;FMTTYPE=image/png:https://ctl.cornell.edu/wp-content/uploads/2022/12/TIPA-Events-page-image-size-700x500px.png
END:VEVENT
BEGIN:VEVENT
DTSTART;TZID=America/New_York:20230511T120000
DTEND;TZID=America/New_York:20230511T130000
DTSTAMP:20260425T160450
CREATED:20230428T184733Z
LAST-MODIFIED:20230428T184733Z
UID:10000382-1683806400-1683810000@ctl.cornell.edu
SUMMARY:NY Ventures Virtual Info Session
DESCRIPTION:New York Ventures is the venture fund of New York State. It invests in teams that are using technology and innovation to solve important challenges in areas of strategic interest and importance to New York State. It actively looks to provide greater access to venture capital for regions\, industries and individuals\, including women and minority entrepreneurs. Its goal is to build a robust startup ecosystem across New York State\, leveraging public and private sector assets. \nThe agenda includes:: \n\nAn overview of NY Ventures\nInformation regarding NY Ventures’ pre-seed and seed matching fund\nQ&A\n\n*** Zoom link will be sent in confirmation email *** \nRegister here.
URL:https://ctl.cornell.edu/event/ny-ventures-virtual-info-session
CATEGORIES:Cornell Community Events
ATTACH;FMTTYPE=image/png:https://ctl.cornell.edu/wp-content/uploads/2023/04/Info-session-NY-Ventures-Events-page-image.png
END:VEVENT
BEGIN:VEVENT
DTSTART;TZID=UTC:20230511T130000
DTEND;TZID=UTC:20230511T150000
DTSTAMP:20260425T160450
CREATED:20230508T205233Z
LAST-MODIFIED:20230508T211537Z
UID:10000383-1683810000-1683817200@ctl.cornell.edu
SUMMARY:CTL Life Sciences Office Hours With Stephen Nowak
DESCRIPTION:Every month\, CTL Business Development and Licensing Associates will be available to meet in person during office hours open to all who wish to get an answer to their intellectual property questions\, gain more information about the advancement of their IP filings\, or learn about technology venture creation with a one-on-one meeting. \nOur next office hours will take place on May 11th at Biotech 302\, hosted by Stephen Nowak\, a CTL Business Development and Licensing Associate\, who will be available every 2nd Thursday of each month. \nStephen has a Ph.D. in Biochemistry and Molecular Biology and is an excellent resource for your licensing\, IP\, startup\, and gap funding opportunities. His passion is helping researchers launch innovative projects into next-generation products for health\, research\, and agriculture. \nDuring the office hours\, Stephen will be available for 30-minute in-person sessions. To reserve your spot\, please click on the registration button below and select your preferred time. We encourage all individuals who are interested in gaining more information about intellectual property or technology venture creation to attend. \nSave your one-on-one spot here. \n 
URL:https://ctl.cornell.edu/event/ctl-life-sciences-office-hours-with-stephen-nowak
LOCATION:Biotechnology Building 302\, 215 Tower Rd\, Ithaca\, NY\, 14853\, United States
CATEGORIES:CTL Office Hours
ATTACH;FMTTYPE=image/png:https://ctl.cornell.edu/wp-content/uploads/2023/05/Stephen-OH-May.png
END:VEVENT
END:VCALENDAR