BEGIN:VCALENDAR
VERSION:2.0
PRODID:-//Center For Technology Licensing - ECPv6.11.2.1//NONSGML v1.0//EN
CALSCALE:GREGORIAN
METHOD:PUBLISH
X-WR-CALNAME:Center For Technology Licensing
X-ORIGINAL-URL:https://ctl.cornell.edu
X-WR-CALDESC:Events for Center For Technology Licensing
REFRESH-INTERVAL;VALUE=DURATION:PT1H
X-Robots-Tag:noindex
X-PUBLISHED-TTL:PT1H
BEGIN:VTIMEZONE
TZID:UTC
BEGIN:STANDARD
TZOFFSETFROM:+0000
TZOFFSETTO:+0000
TZNAME:UTC
DTSTART:20220101T000000
END:STANDARD
END:VTIMEZONE
BEGIN:VTIMEZONE
TZID:America/New_York
BEGIN:DAYLIGHT
TZOFFSETFROM:-0500
TZOFFSETTO:-0400
TZNAME:EDT
DTSTART:20230312T070000
END:DAYLIGHT
BEGIN:STANDARD
TZOFFSETFROM:-0400
TZOFFSETTO:-0500
TZNAME:EST
DTSTART:20231105T060000
END:STANDARD
END:VTIMEZONE
BEGIN:VEVENT
DTSTART;VALUE=DATE:20221205
DTEND;VALUE=DATE:20230701
DTSTAMP:20260419T103005
CREATED:20221205T225407Z
LAST-MODIFIED:20221205T225650Z
UID:10000298-1670198400-1688169599@ctl.cornell.edu
SUMMARY:The Inventor's Patent Academy
DESCRIPTION:Patents protect inventions so that inventors can focus on their work and be compensated for it. But many people don’t know how to navigate the patenting process\, or even where to start. \nThat’s why The Inventor’s Patent Academy was created. This free\, one-of-a-kind\, e-learning course aims to help people understand the patenting process and get them ready to apply for their own patent. It also explores challenges inventors may face along the way—particularly those that typically affect women\, people of color\, veterans\, low-income individuals\, people with disabilities\, and other underrepresented inventors—and provides advice to overcome them. Throughout the program\, participants will hear from actual inventors about the challenges they faced and their successes on their journeys to bring ideas to life. \nThis course is unique because it was made by inventors\, patent experts\, and—most importantly—diversity and inclusion experts\, in collaboration with Invent Together partner Qualcomm: one of America’s most innovative companies\, with a portfolio of more than 140\,000 patents. \nIf more people are encouraged to invent and have the tools and knowledge to patent\, we can begin to make real systemic change and build a more diverse and inclusive innovation ecosystem—complete with new inventors\, new ideas\, and new technologies. \nStart your patenting journey today! Register here. \n 
URL:https://ctl.cornell.edu/event/the-inventors-patent-academy
CATEGORIES:Partner Events
ATTACH;FMTTYPE=image/png:https://ctl.cornell.edu/wp-content/uploads/2022/12/TIPA-Events-page-image-size-700x500px.png
END:VEVENT
BEGIN:VEVENT
DTSTART;TZID=UTC:20230608T130000
DTEND;TZID=UTC:20230608T150000
DTSTAMP:20260419T103005
CREATED:20230516T164455Z
LAST-MODIFIED:20230516T164455Z
UID:10000389-1686229200-1686236400@ctl.cornell.edu
SUMMARY:CTL Life Sciences June Office Hours With Stephen Nowak
DESCRIPTION:Every month\, CTL Business Development and Licensing Associates will be available to meet in person during office hours open to all who wish to get an answer to their intellectual property questions\, gain more information about the advancement of their IP filings\, or learn about technology venture creation with a one-on-one meeting. \nOur next office hours will take place on June 8th at Biotech 302\, hosted by Stephen Nowak\, a CTL Business Development and Licensing Associate\, who will be available every 2nd Thursday of each month. \nStephen has a Ph.D. in Biochemistry and Molecular Biology and is an excellent resource for your licensing\, IP\, startup\, and gap funding opportunities. His passion is helping researchers launch innovative projects into next-generation products for health\, research\, and agriculture. \nDuring the office hours\, Stephen will be available for 30-minute in-person sessions. To reserve your spot\, please click on the registration button below and select your preferred time. We encourage all individuals who are interested in gaining more information about intellectual property or technology venture creation to attend. \nSave your one-on-one spot here. \n 
URL:https://ctl.cornell.edu/event/ctl-life-sciences-june-office-hours-with-stephen-nowak
LOCATION:Biotechnology Building 302\, 215 Tower Rd\, Ithaca\, NY\, 14853\, United States
CATEGORIES:CTL Office Hours
ATTACH;FMTTYPE=image/png:https://ctl.cornell.edu/wp-content/uploads/2023/05/Stephens-office-hours.png
END:VEVENT
BEGIN:VEVENT
DTSTART;TZID=America/New_York:20230608T160000
DTEND;TZID=America/New_York:20230608T200000
DTSTAMP:20260419T103005
CREATED:20230525T202846Z
LAST-MODIFIED:20230525T202846Z
UID:10000410-1686240000-1686254400@ctl.cornell.edu
SUMMARY:Cornell Tech Fest 2023
DESCRIPTION:Cornell Tech Fest returns to Roosevelt Island! \n\n\n\n\n\n\n\n\nCornell Tech Fest brings together visionaries and doers–in industry\, academia\, policy\, and the arts–for inspiring conversations about how tech and society interact\, in NYC and beyond. \nThis year\, Tech Fest will also feature demonstrations from the innovative deep-tech entrepreneurs in the Jacobs Technion-Cornell Institute’s Runway Startups Program. \nThis event is open to anyone who is interested in the role that technology plays in how we live. \n  \nThursday\, June 8\, 2023\n4-8 pm\nCornell Tech Campus\nRoosevelt Island\, NYC\nTickets: $50 \nRegister here.
URL:https://ctl.cornell.edu/event/cornell-tech-fest-2023
LOCATION:Cornell Tech\, New York City\, 2 West Loop Road\, New York\, NY\, 10044\, United States
CATEGORIES:Cornell Community Events
ATTACH;FMTTYPE=image/png:https://ctl.cornell.edu/wp-content/uploads/2023/05/Cornell-Tech-Fest-2023.png
END:VEVENT
END:VCALENDAR