BEGIN:VCALENDAR
VERSION:2.0
PRODID:-//Center For Technology Licensing - ECPv6.11.2.1//NONSGML v1.0//EN
CALSCALE:GREGORIAN
METHOD:PUBLISH
X-WR-CALNAME:Center For Technology Licensing
X-ORIGINAL-URL:https://ctl.cornell.edu
X-WR-CALDESC:Events for Center For Technology Licensing
REFRESH-INTERVAL;VALUE=DURATION:PT1H
X-Robots-Tag:noindex
X-PUBLISHED-TTL:PT1H
BEGIN:VTIMEZONE
TZID:America/New_York
BEGIN:DAYLIGHT
TZOFFSETFROM:-0500
TZOFFSETTO:-0400
TZNAME:EDT
DTSTART:20240310T070000
END:DAYLIGHT
BEGIN:STANDARD
TZOFFSETFROM:-0400
TZOFFSETTO:-0500
TZNAME:EST
DTSTART:20241103T060000
END:STANDARD
END:VTIMEZONE
BEGIN:VEVENT
DTSTART;TZID=America/New_York:20240529T093000
DTEND;TZID=America/New_York:20240529T163000
DTSTAMP:20260420T225953
CREATED:20240513T151245Z
LAST-MODIFIED:20240513T151245Z
UID:10000515-1716975000-1717000200@ctl.cornell.edu
SUMMARY:Emerging Tech Dialogues: Artificial Intelligence in Higher Education
DESCRIPTION:Interested Cornell technology community members\, as well as faculty\, staff\, researchers\, and students\, are invited to explore AI and other new technologies in an interactive and hybrid event on Wednesday\, May 29\, 2024. There is NO COST to participate in the event! \nHosted on the Ithaca campus and also available via Zoom\, “Emerging Tech Dialogues: Artificial Intelligence in Higher Education” launches a series of events that will be encompassed in an IT Academy model\, championed by Ben Maddox\, Chief Information Officer at the Ithaca campus. \nJoin Ben as host of this event\, along with other faculty and AI experts\, including guest speakers Kavita Bala from Cornell and Clay Shirky from New York University. \nRegister for the event and share this invitation with your colleagues. See you May 29\, 2024\, 9:30am-4:00pm EST!
URL:https://ctl.cornell.edu/event/emerging-tech-dialogues-artificial-intelligence-in-higher-education
CATEGORIES:Cornell Community Events
END:VEVENT
END:VCALENDAR