BEGIN:VCALENDAR
VERSION:2.0
PRODID:-//Center For Technology Licensing - ECPv6.11.2.1//NONSGML v1.0//EN
CALSCALE:GREGORIAN
METHOD:PUBLISH
X-ORIGINAL-URL:https://ctl.cornell.edu
X-WR-CALDESC:Events for Center For Technology Licensing
REFRESH-INTERVAL;VALUE=DURATION:PT1H
X-Robots-Tag:noindex
X-PUBLISHED-TTL:PT1H
BEGIN:VTIMEZONE
TZID:UTC
BEGIN:STANDARD
TZOFFSETFROM:+0000
TZOFFSETTO:+0000
TZNAME:UTC
DTSTART:20220101T000000
END:STANDARD
END:VTIMEZONE
BEGIN:VEVENT
DTSTART;TZID=UTC:20220810T130000
DTEND;TZID=UTC:20220810T140000
DTSTAMP:20260425T084225
CREATED:20220713T174301Z
LAST-MODIFIED:20220713T174301Z
UID:10000276-1660136400-1660140000@ctl.cornell.edu
SUMMARY:Equity Compensation in University Startups
DESCRIPTION:Webinar Description: \n  \nPlease join us for the first part of our series of webinars on Startup Equity and Financing: Equity Compensation in University Startups. \n  \nEquity compensation can be an opaque and awkward topic for first-time academic founders. Join us for a webinar that is an in-depth look at venture capital perspectives on the economics of university startup formation\, particularly founders’ equity. OUP will review an analysis of the equity structures of over 90 startups combined with our collective insights from a decade of working with hundreds of academic founders as featured in a recent blog post by Nabil Ullah. In addition\, the speakers will take the audience step-by-step through the life of a company\, illustrating the uses of equity and potential outcomes for founders. \n  \nYou can submit questions below (on the registration page) and we will also have a Q&A session during the webinar. \nRegister here. After registering\, you will receive a confirmation email containing information about joining the webinar. \n  \nThis webinar is open to all of OUP’s academic institution partners. \n————————————————- \n  \nPanelists:
URL:https://ctl.cornell.edu/event/equity-compensation-in-university-startups
CATEGORIES:Partner Events
ATTACH;FMTTYPE=:
END:VEVENT
END:VCALENDAR