BEGIN:VCALENDAR
VERSION:2.0
PRODID:-//Center For Technology Licensing - ECPv6.11.2.1//NONSGML v1.0//EN
CALSCALE:GREGORIAN
METHOD:PUBLISH
X-ORIGINAL-URL:https://ctl.cornell.edu
X-WR-CALDESC:Events for Center For Technology Licensing
REFRESH-INTERVAL;VALUE=DURATION:PT1H
X-Robots-Tag:noindex
X-PUBLISHED-TTL:PT1H
BEGIN:VTIMEZONE
TZID:UTC
BEGIN:STANDARD
TZOFFSETFROM:+0000
TZOFFSETTO:+0000
TZNAME:UTC
DTSTART:20220101T000000
END:STANDARD
END:VTIMEZONE
BEGIN:VEVENT
DTSTART;VALUE=DATE:20220923
DTEND;VALUE=DATE:20220924
DTSTAMP:20260425T070833
CREATED:20220907T002050Z
LAST-MODIFIED:20220907T002050Z
UID:10000285-1663891200-1663977599@ctl.cornell.edu
SUMMARY:Hello Tomorrow Global Challenge
DESCRIPTION:Applications are still open for promising early-stage deep tech startups across all industries and technologies for the 2022 Global Challenge! \n  \nStartups can gain the following opportunities: \nGlobal visibility: \n\nOpportunities to pitch & showcase at the Global Summit in Paris\, welcoming 3000+ attendees\nChance to get spotted by international media (Sifted\, The Times\, The Economist\, etc.)\n\nConnections: \n\nAccess to the Global Summit & opportunities to meet with hundreds of VCs\, accelerators\, and industry leaders (including Bayer\, Airbus\, Bosch\, Google\, Solvay\, etc. )\nWinners receive customized coaching sessions from experts & personal intros with relevant investors and potential partners/clients\n\nFunding: \n\n€150K prizes – all equity-free\, no strings attached\nAccess to our Investor Day with 200+ renowned VCs and CVCs (including DCVC\, Atomico\, SOSV\, World fund\, CVCs from  IBM\, Merck\, BASF\, etc. )\n\n  \nHave a deep tech startup or project that uses advanced technology to answer a societal or industrial challenge? Apply online here until September 23rd!
URL:https://ctl.cornell.edu/event/global-challenge
CATEGORIES:Partner Events
ATTACH;FMTTYPE=:
END:VEVENT
END:VCALENDAR