BEGIN:VCALENDAR
VERSION:2.0
PRODID:-//Center For Technology Licensing - ECPv6.11.2.1//NONSGML v1.0//EN
CALSCALE:GREGORIAN
METHOD:PUBLISH
X-WR-CALNAME:Center For Technology Licensing
X-ORIGINAL-URL:https://ctl.cornell.edu
X-WR-CALDESC:Events for Center For Technology Licensing
REFRESH-INTERVAL;VALUE=DURATION:PT1H
X-Robots-Tag:noindex
X-PUBLISHED-TTL:PT1H
BEGIN:VTIMEZONE
TZID:America/New_York
BEGIN:DAYLIGHT
TZOFFSETFROM:-0500
TZOFFSETTO:-0400
TZNAME:EDT
DTSTART:20240310T070000
END:DAYLIGHT
BEGIN:STANDARD
TZOFFSETFROM:-0400
TZOFFSETTO:-0500
TZNAME:EST
DTSTART:20241103T060000
END:STANDARD
END:VTIMEZONE
BEGIN:VEVENT
DTSTART;TZID=America/New_York:20240305T120000
DTEND;TZID=America/New_York:20240305T120000
DTSTAMP:20260424T023531
CREATED:20240131T171519Z
LAST-MODIFIED:20240131T171759Z
UID:10000477-1709640000-1709640000@ctl.cornell.edu
SUMMARY:The OUP Exchange: Licensing Trends for Climate Tech Startups
DESCRIPTION:The purpose of the Virtual Exchange is to share best practices across a broad network and make connections in the tech transfer world. In this Exchange\, we’ll share best practices for licensing to climate tech startups\, including the following questions: \n\nGiven the ever-evolving climate tech landscape these past few years\, how have your licensing practices to these startups changed\, if at all? What are your pain points working with these startups? What are some best practices your office has implemented?\nHave royalty percentage amounts or structures changed recently in your climate tech startup licenses? What are some best practices you can share regarding structuring compensation for Licensed Product sales in climate tech licenses?\nAre you utilizing milestone payments as a different lever in your climate tech startup licenses? If so\, have these been to offset some or all earned royalty payments?\nHave these startups requested any interesting non-financial terms?\n\nBring your pain points and lessons learned pertaining to climate tech startup licensing. We’ll start out with a brief panel discussion addressing some of these questions\, followed by breakout rooms to talk through additional points\, and then a brief summary of the breakout discussions back in the main room. \nEach breakout room will have a moderator and scribe. The moderators will keep the discussions moving in the breakout rooms\, and the scribes will be responsible for summarizing the key findings of their breakout session and presenting them to the larger group. If you would like to volunteer for one of these positions\, please designate that on your registration form or email Jaimie Testai at jtestai@oup.vc. You are also welcome to send in advance to Jaimie any additional questions you would like to see discussed during the Exchange. \nCome discuss\, network\, and learn together on March 5th or 6th. We will run two sessions since we know not everyone can always make a specific date and time. \nWhile most of our programs are open to a broad swath of audiences\, the purpose of the Exchange is to share best practices in the academic tech transfer field and therefore is only open to individuals employed by our partner institutions’ Technology Commercialization Offices. \nRegistration
URL:https://ctl.cornell.edu/event/the-oup-exchange-licensing-trends-for-climate-tech-startups
CATEGORIES:Partner Events
ATTACH;FMTTYPE=image/png:https://ctl.cornell.edu/wp-content/uploads/2024/01/image.png
END:VEVENT
BEGIN:VEVENT
DTSTART;TZID=America/New_York:20240314T120000
DTEND;TZID=America/New_York:20240314T130000
DTSTAMP:20260424T023531
CREATED:20240131T173509Z
LAST-MODIFIED:20240205T140748Z
UID:10000480-1710417600-1710421200@ctl.cornell.edu
SUMMARY:2024 Startup Financing Trends
DESCRIPTION:OUP is pleased to invite you to our annual startup financing trends webinar. Join Harry Won\, Nii Dodoo-Amoo and Nabil Ullah of OUP’s investment team for a discussion on startup financing trends to review the state of the venture funding landscape. \nWe’ll cover current market behaviors across the entire startup ecosystem with a specific emphasis on university spinouts. Harry Won will outline trends in the life sciences\, including biopharma\, research tools\, diagnostics\, and medical devices while Nii Dodoo-Amoo and Nabil Ullah will review the tech and physical sciences\, ranging from software to climate tech. \nOUP leverages public sources and its own proprietary database of active university spinouts from its partner institutions to provide unique insights and perspectives for 2024 and beyond. \nPanelists: \n\nNii Dodoo-Amoo –   Principal of the tech investment team at OUP\, focusing on investment opportunities in physical sciences and deep tech sectors.\nHarry Won – an associate of the Life Science team at OUP focusing on life science investment opportunities across therapeutic areas and development stages.\nNabil Ullah – a Senior Investment Analyst assisting OUP’s investment team across a variety of functions such as sourcing investment opportunities\, conducting diligence\, and providing portfolio support.\n\nRegistration
URL:https://ctl.cornell.edu/event/2024-startup-financing-trends
CATEGORIES:Partner Events
ATTACH;FMTTYPE=image/png:https://ctl.cornell.edu/wp-content/uploads/2024/01/image-1.png
END:VEVENT
BEGIN:VEVENT
DTSTART;TZID=America/New_York:20240328T120000
DTEND;TZID=America/New_York:20240328T130000
DTSTAMP:20260424T023531
CREATED:20240325T142855Z
LAST-MODIFIED:20240325T142855Z
UID:10000499-1711627200-1711630800@ctl.cornell.edu
SUMMARY:Empowering Women Innovators: A Spotlight on the National Science Foundation I-Corps Program
DESCRIPTION:Join us on Thursday\, March 28th\, from 12-1 pm EST for an enlightening session dedicated to the I-Corps program\, a transformative National Science Foundation initiative that enables researchers to amplify the impact of their scientific discoveries in the marketplace. In honor of Women’s History Month\, this event is tailor-made for the Equalize community and female academic entrepreneurs eager to explore the commercial viability of their innovations. Engage in discussions with panels featuring academic researchers and startups\, sharing their customer discovery journeys within the I-Corps program. They will provide invaluable insights\, enriching the event with their unique perspectives and expertise. Seize this exceptional opportunity to connect\, learn\, and make your mark within a thriving innovation and entrepreneurship ecosystem. Be part of this inspiring community event that celebrates and elevates women’s roles in pioneering change! \nRegister now.
URL:https://ctl.cornell.edu/event/empowering-women-innovators-a-spotlight-on-the-national-science-foundation-i-corps-program
CATEGORIES:Partner Events
ATTACH;FMTTYPE=image/png:https://ctl.cornell.edu/wp-content/uploads/2024/03/c1c2a99c-326d-4412-819b-d757bd399dba.png
END:VEVENT
END:VCALENDAR