BEGIN:VCALENDAR
VERSION:2.0
PRODID:-//Center For Technology Licensing - ECPv6.11.2.1//NONSGML v1.0//EN
CALSCALE:GREGORIAN
METHOD:PUBLISH
X-ORIGINAL-URL:https://ctl.cornell.edu
X-WR-CALDESC:Events for Center For Technology Licensing
REFRESH-INTERVAL;VALUE=DURATION:PT1H
X-Robots-Tag:noindex
X-PUBLISHED-TTL:PT1H
BEGIN:VTIMEZONE
TZID:UTC
BEGIN:STANDARD
TZOFFSETFROM:+0000
TZOFFSETTO:+0000
TZNAME:UTC
DTSTART:20220101T000000
END:STANDARD
END:VTIMEZONE
BEGIN:VEVENT
DTSTART;VALUE=DATE:20220309
DTEND;VALUE=DATE:20220701
DTSTAMP:20260425T143718
CREATED:20220310T035316Z
LAST-MODIFIED:20220310T035316Z
UID:10000260-1646784000-1656633599@ctl.cornell.edu
SUMMARY:OUP Faculty Virtual Office Hours
DESCRIPTION:If you’re a faculty member with intellectual property disclosure\, sign up for a one-on-one meeting to discuss your idea with an OUP member. During these sessions\, OUP can answer questions related to early-stage startups on topics such as technology de-risking\, product-marketing fit\, fundraising\, and the general startup process. \n  \nFill out this form to schedule a time to get VC feedback on your startup idea.
URL:https://ctl.cornell.edu/event/oup-faculty-virtual-office-hours
CATEGORIES:Partner Events
ATTACH;FMTTYPE=:
END:VEVENT
BEGIN:VEVENT
DTSTART;TZID=UTC:20220524T120000
DTEND;TZID=UTC:20220524T130000
DTSTAMP:20260425T143718
CREATED:20220506T000229Z
LAST-MODIFIED:20220506T000229Z
UID:10000271-1653393600-1653397200@ctl.cornell.edu
SUMMARY:LLCs Versus Corporations as Startup Structures
DESCRIPTION:Quarles & Brady and OUP are pleased to invite you to a webinar on LLCs versus corporations as startup structures. \n  \nJoin Mark Ehrmann and Jeff Fugal of Quarles & Brady LLP and Marc Singer and Beth Grafstrom of OUP for a discussion on the use of LLCs as a startup vehicle and the differences of using an LLC vs. a C Corp as the company structure. \n  \nThe webinar will include a deep dive on each of the following topics:\n• Governance and structural concerns of LLCs\, including organizational documents\, founders’ agreements\, and management provisions\n• Tax issues\, including partnership provisions and conversion opportunities for LLCs\n• Investor concerns on LLCs\, particularly from the venture capital lens\n• Accounting issues on tax and structure of LLCs vs. C Corporations\nIf you have any questions in advance that you would like for us to queue up for the panelists\, please send them to Kirsten Leute at kleute@oup.vc \n  \nThis webinar is open to all of OUP’s academic institution partners\, Quarles & Brady LLP’s clients and network\, and the broader entrepreneurial communities. The webinar will be recorded and available on YouTube within a week of the live version. \n  \nRegister here.
URL:https://ctl.cornell.edu/event/llcs-versus-corporations
CATEGORIES:Partner Events
ATTACH;FMTTYPE=:
END:VEVENT
END:VCALENDAR