BEGIN:VCALENDAR
VERSION:2.0
PRODID:-//Center For Technology Licensing - ECPv6.11.2.1//NONSGML v1.0//EN
CALSCALE:GREGORIAN
METHOD:PUBLISH
X-WR-CALNAME:Center For Technology Licensing
X-ORIGINAL-URL:https://ctl.cornell.edu
X-WR-CALDESC:Events for Center For Technology Licensing
REFRESH-INTERVAL;VALUE=DURATION:PT1H
X-Robots-Tag:noindex
X-PUBLISHED-TTL:PT1H
BEGIN:VTIMEZONE
TZID:UTC
BEGIN:STANDARD
TZOFFSETFROM:+0000
TZOFFSETTO:+0000
TZNAME:UTC
DTSTART:20220101T000000
END:STANDARD
END:VTIMEZONE
BEGIN:VEVENT
DTSTART;TZID=UTC:20221004T120000
DTEND;TZID=UTC:20221004T130000
DTSTAMP:20260425T071659
CREATED:20220830T005630Z
LAST-MODIFIED:20221007T001603Z
UID:10000283-1664884800-1664888400@ctl.cornell.edu
SUMMARY:CTL New Ventures Series – Pitching 101: How to Present Your Startups and Technology Innovation to Potential Funders
DESCRIPTION:Back by popular demand for CTL’s New Ventures Series this fall\, Kirsten Leute and Ajay Rayasam at Osage University Partners (OUP) focus the session on how an entrepreneur\, or a faculty-entrepreneur\, can develop and deliver a pitch to gain interest and commitment from potential investors. \nPitching an early-stage science- and technology-based startup to potential funders can be intimidating. Learning how to tailor your presentation and understanding what motivates funders to say yes\, or at least not give you an outright no\, are important aspects of preparing for your initial pitch. This talk is structured around OUP’s many years of experience in hearing pitches and reviewing pitch decks to provide insight on creating and presenting an initial startup pitch to funders. \nSpeakers: \n\nKirsten Leute\, Partner at OUP\nAjay Rayasam\, M.S.\, Associate\, Technology\, OUP\n\n  \nRegister here!
URL:https://ctl.cornell.edu/event/new-ventures-series-pitching-101
CATEGORIES:CTL Events,Partner Events
END:VEVENT
END:VCALENDAR