BEGIN:VCALENDAR
VERSION:2.0
PRODID:-//Center For Technology Licensing - ECPv6.11.2.1//NONSGML v1.0//EN
CALSCALE:GREGORIAN
METHOD:PUBLISH
X-WR-CALNAME:Center For Technology Licensing
X-ORIGINAL-URL:https://ctl.cornell.edu
X-WR-CALDESC:Events for Center For Technology Licensing
REFRESH-INTERVAL;VALUE=DURATION:PT1H
X-Robots-Tag:noindex
X-PUBLISHED-TTL:PT1H
BEGIN:VTIMEZONE
TZID:UTC
BEGIN:STANDARD
TZOFFSETFROM:+0000
TZOFFSETTO:+0000
TZNAME:UTC
DTSTART:20220101T000000
END:STANDARD
END:VTIMEZONE
BEGIN:VEVENT
DTSTART;TZID=UTC:20221011T120000
DTEND;TZID=UTC:20221011T130000
DTSTAMP:20260425T071729
CREATED:20220912T212217Z
LAST-MODIFIED:20221007T001155Z
UID:10000286-1665489600-1665493200@ctl.cornell.edu
SUMMARY:Ask a VC webinar
DESCRIPTION:Have a burning question on venture capital you need answered? Join OUP for our third annual ‘Ask a VC’ webinar\, a session where our partner TTOs can ask Managing Partners Marc Singer and Bill Harrington anything and everything about venture capital operations\, decision-making\, and the current investing environment. \n  \nSince this webinar aims to answer your questions on venture capital and startups\, submit your questions early. Query areas could include:\n• What should startups look for in their lead investors?\n• What are ‘standard’ investment terms these days for startups? Does this vary by Seed vs. Series A?\n• What are the common misconceptions you find that faculty members have about being a company founder?\n• What does a well-known PI typically receive for founder’s equity?\n• How do SPACs work\, and what could they mean for university startups?\n• What do you find are common misconceptions TTOs have about venture capital?\n• What funding sources most commonly lead to a startup having a later successful venture capital financing round? \n  \nMarc and Bill will also take questions from the audience on the day of the webinar but sending your questions in advance will put them at the top of the queue. \n  \nThis webinar is free to all of OUP’s academic institution partners. Register here. \n  \n  \nPanelists:
URL:https://ctl.cornell.edu/event/ask-a-vc-webinar
CATEGORIES:Partner Events
ATTACH;FMTTYPE=image/png:https://ctl.cornell.edu/wp-content/uploads/2022/09/OUP-VC-700x163-1.png
END:VEVENT
END:VCALENDAR