BEGIN:VCALENDAR
VERSION:2.0
PRODID:-//Center For Technology Licensing - ECPv6.11.2.1//NONSGML v1.0//EN
CALSCALE:GREGORIAN
METHOD:PUBLISH
X-ORIGINAL-URL:https://ctl.cornell.edu
X-WR-CALDESC:Events for Center For Technology Licensing
REFRESH-INTERVAL;VALUE=DURATION:PT1H
X-Robots-Tag:noindex
X-PUBLISHED-TTL:PT1H
BEGIN:VTIMEZONE
TZID:America/New_York
BEGIN:DAYLIGHT
TZOFFSETFROM:-0500
TZOFFSETTO:-0400
TZNAME:EDT
DTSTART:20230312T070000
END:DAYLIGHT
BEGIN:STANDARD
TZOFFSETFROM:-0400
TZOFFSETTO:-0500
TZNAME:EST
DTSTART:20231105T060000
END:STANDARD
END:VTIMEZONE
BEGIN:VEVENT
DTSTART;TZID=America/New_York:20231116T160000
DTEND;TZID=America/New_York:20231116T170000
DTSTAMP:20260424T100139
CREATED:20231115T145639Z
LAST-MODIFIED:20231115T145746Z
UID:10000467-1700150400-1700154000@ctl.cornell.edu
SUMMARY:Navigating Entrepreneurship in Neurotech
DESCRIPTION:Thursday\, November 16\, 4-5 pm ET\, join us for a virtual panel “Navigating Entrepreneurship in Neurotech\,” which will discuss the current challenges and strategies of building a startup in the Neurotech space. In the rapidly evolving landscape of neurotechnology\, the panel will discuss the pivotal steps required to de-risk innovations in this dynamic field. From applications in the ICU for a traumatic brain injury to brain-computer interface technology to enhance motor skills and video-based devices used to combat mental health challenges\, what does it take to build a neurotech startup? \nLearn from rising entrepreneurs in this space about funding and regulatory strategies they’ve pursued\, as well as how they’ve surpassed challenges in obtaining data for their neurotech in a relatively new and evolving environment. \nPanelists:\n– Susan Pannullo\, MD – Professor of Clinical Neurological Surgery\, Weill Cornell Medicine and Adjunct Professor of Biomedical Engineering (Moderator)\n– Benjamin Rapoport\, MD\, PhD – Co-Founder\, CSO\, Precision Neuroscience\, Neurosurgeon\, Mount Sinai Health System\, former co-founding team member of #Neuralink\, an X company (Panelist)\n– Sudhin Shah\, MS\, PhD – CSO\, Alert Neurotechnologies\, Assistant Professor\, Neuroscience\, Radiology at Weill Cornell Medicine (Panelist) \nRSVP
URL:https://ctl.cornell.edu/event/navigating-entrepreneurship-in-neurotech
CATEGORIES:Partner Events
ATTACH;FMTTYPE=image/jpeg:https://ctl.cornell.edu/wp-content/uploads/2023/11/https___cdn.evbuc_.com_images_639459739_1043578448253_1_original.jpeg
END:VEVENT
END:VCALENDAR