BEGIN:VCALENDAR
VERSION:2.0
PRODID:-//Center For Technology Licensing - ECPv6.11.2.1//NONSGML v1.0//EN
CALSCALE:GREGORIAN
METHOD:PUBLISH
X-WR-CALNAME:Center For Technology Licensing
X-ORIGINAL-URL:https://ctl.cornell.edu
X-WR-CALDESC:Events for Center For Technology Licensing
REFRESH-INTERVAL;VALUE=DURATION:PT1H
X-Robots-Tag:noindex
X-PUBLISHED-TTL:PT1H
BEGIN:VTIMEZONE
TZID:America/New_York
BEGIN:DAYLIGHT
TZOFFSETFROM:-0500
TZOFFSETTO:-0400
TZNAME:EDT
DTSTART:20240310T070000
END:DAYLIGHT
BEGIN:STANDARD
TZOFFSETFROM:-0400
TZOFFSETTO:-0500
TZNAME:EST
DTSTART:20241103T060000
END:STANDARD
END:VTIMEZONE
BEGIN:VEVENT
DTSTART;TZID=America/New_York:20240606T130000
DTEND;TZID=America/New_York:20240606T140000
DTSTAMP:20260423T212227
CREATED:20240529T132346Z
LAST-MODIFIED:20240529T132346Z
UID:10000517-1717678800-1717682400@ctl.cornell.edu
SUMMARY:Webinar: HOW TO BUILD YOUR INNOVATION SUPPORT NETWORK!
DESCRIPTION:Invent Together presents a virtual discussion with Erin Kelley\, Genna Hibbs\, and Maria Artunduaga on the importance of building your innovation support network and tips to succeed. \nDate: June 6\, 2024\nTime: 1 PM (EST)\nRegister now
URL:https://ctl.cornell.edu/event/webinar-how-to-build-your-innovation-support-network
CATEGORIES:Partner Events
END:VEVENT
END:VCALENDAR