BEGIN:VCALENDAR
VERSION:2.0
PRODID:-//Center For Technology Licensing - ECPv6.11.2.1//NONSGML v1.0//EN
CALSCALE:GREGORIAN
METHOD:PUBLISH
X-ORIGINAL-URL:https://ctl.cornell.edu
X-WR-CALDESC:Events for Center For Technology Licensing
REFRESH-INTERVAL;VALUE=DURATION:PT1H
X-Robots-Tag:noindex
X-PUBLISHED-TTL:PT1H
BEGIN:VTIMEZONE
TZID:America/New_York
BEGIN:DAYLIGHT
TZOFFSETFROM:-0500
TZOFFSETTO:-0400
TZNAME:EDT
DTSTART:20260308T070000
END:DAYLIGHT
BEGIN:STANDARD
TZOFFSETFROM:-0400
TZOFFSETTO:-0500
TZNAME:EST
DTSTART:20261101T060000
END:STANDARD
END:VTIMEZONE
BEGIN:VEVENT
DTSTART;TZID=America/New_York:20260429T120000
DTEND;TZID=America/New_York:20260429T130000
DTSTAMP:20260424T115422
CREATED:20260410T202838Z
LAST-MODIFIED:20260410T204308Z
UID:10000598-1777464000-1777467600@ctl.cornell.edu
SUMMARY:Anatomy of a Deal: Founder\, Equity Investor & Lender
DESCRIPTION:Join Launch NY’s ECO Incubator for a practical\, behind-the-scenes look at how early-stage clean energy deals come together—from initial conversations to closing. This session brings together a founder\, an equity investor\, and a lender to share how deals are sourced\, structured\, and financed in today’s market. \nFeaturing: \n\nGillian Francis\, Managing & Founding Partner\, Rapid Ventures\nStwart Peña Feliz\, CEO & Co-Founder\, MacroCycle Technologies\nMaggie Wong\, Senior VP\, Silicon Valley Bank\n\nRegister now.
URL:https://ctl.cornell.edu/event/anatomy-of-a-deal-founder-equity-investor-lender
CATEGORIES:Partner Events
ATTACH;FMTTYPE=image/jpeg:https://ctl.cornell.edu/wp-content/uploads/2026/04/Anatomy-of-a-Deal-event-image-e1775852907574.jpg
LOCATION:
END:VEVENT
END:VCALENDAR